BEGIN:VCALENDAR
VERSION:2.0
PRODID:-//小田和正さん追っかけヨメの付き人のたわ言 - ECPv6.3.7//NONSGML v1.0//EN
CALSCALE:GREGORIAN
METHOD:PUBLISH
X-ORIGINAL-URL:https://www.yomenotsukibito.com
X-WR-CALDESC:小田和正さん追っかけヨメの付き人のたわ言 のイベント
REFRESH-INTERVAL;VALUE=DURATION:PT1H
X-Robots-Tag:noindex
X-PUBLISHED-TTL:PT1H
BEGIN:VTIMEZONE
TZID:Asia/Tokyo
BEGIN:STANDARD
TZOFFSETFROM:+0900
TZOFFSETTO:+0900
TZNAME:JST
DTSTART:20190101T000000
END:STANDARD
END:VTIMEZONE
BEGIN:VEVENT
DTSTART;TZID=Asia/Tokyo:20190626T183000
DTEND;TZID=Asia/Tokyo:20190626T213000
DTSTAMP:20260421T205234
CREATED:20190505T032930Z
LAST-MODIFIED:20190627T061318Z
UID:7739-1561573800-1561584600@www.yomenotsukibito.com
SUMMARY:さいたまスーパーアリーナ初日公演
DESCRIPTION:読者のhaさんからご提供いただきました。ありがとうございます。\n\n\n\n付き人が撮影した座席表。これは縦バージョンです。\n\n掲示している場所によって、表示方法を変えているみたいです。\n\n\n200レベルの座席表に関する注意\nスタンド席さいたまスーパーアリーナのホームページの座席表を皆さん利用されると思いますが、今回のコンサートで200レベルの座席表をそのまま当てはめないようにしてください。\n\n\n\n付き人が赤い枠を書き内側を白く曇らせましたがそこの部分は全てアリーナなんです。具体的にいうとA列からL列は存在しません。その辺りはアリーナ席となっています。だから例えば1列458番の席は正真正銘の200レベルの最前列になります。アリーナ席より200レベルの席の方が前のヒトが邪魔にならず、高さを感じないのでお勧めです。通路側なら小田さんがそばを通りはります。\n■さいたま公演に関するおしらせ \n\n\n6/26(水)、27 (木)のさいたまスーパーアリーナ公演は、映像収録ライブになります。\nご鑑賞にあたり、以下のことを十分にご理解いただき、ご了承の上で、チケットをお申し込みください。\n・撮影機材（カメラ、クレーン等）及び、撮影スタッフによって、一部見えない、見づらい、聴きづらい\n（目の前をカメラが横切る、機械等の音が出る等）座席があります。\nまた、撮影により移動が制限される場面も想定されます。\n場内の係員の指示に従ってください。\n・客席を含め収録いたしますので、お客様の様子が映り込む場合もあります。\n・収録した映像は、放送、販売する予定があります。\n・演出の都合上、場内の気温が高くなったり、音が大きくなったりすることがあります。\n・演出向上の為に、ご協力（拍手・手拍子等）をお願いする場合があります。 \n\n\n\n\n\n\n\n\n\n\n\n\n\n2018年　ENCORE!!ツアーの時の座席表です。\n2018年6月26日（火）17：30/18：30\n2018年6月27日（水）17：30/18：30\nＭさんより写真をご提供いただきました。ありがとうございます。\n\n\n\n\n\n\n\n\n\n\n\n\n\n\n\n\n\n 
URL:https://www.yomenotsukibito.com/2019-event/2019-ssa-1
LOCATION:さいたまスーパーアリーナ\, 中央区新都心８\, さいたま市\, 埼玉県\, 330-9111\, 日本
ATTACH;FMTTYPE=image/jpeg:https://www.yomenotsukibito.com/wp-content/uploads/2019/04/20190429_5_1.jpg
END:VEVENT
END:VCALENDAR