BEGIN:VCALENDAR
VERSION:2.0
PRODID:-//小田和正さん追っかけヨメの付き人のたわ言 - ECPv6.3.7//NONSGML v1.0//EN
CALSCALE:GREGORIAN
METHOD:PUBLISH
X-WR-CALNAME:小田和正さん追っかけヨメの付き人のたわ言
X-ORIGINAL-URL:https://www.yomenotsukibito.com
X-WR-CALDESC:小田和正さん追っかけヨメの付き人のたわ言 のイベント
REFRESH-INTERVAL;VALUE=DURATION:PT1H
X-Robots-Tag:noindex
X-PUBLISHED-TTL:PT1H
BEGIN:VTIMEZONE
TZID:Asia/Tokyo
BEGIN:STANDARD
TZOFFSETFROM:+0900
TZOFFSETTO:+0900
TZNAME:JST
DTSTART:20190101T000000
END:STANDARD
END:VTIMEZONE
BEGIN:VEVENT
DTSTART;TZID=Asia/Tokyo:20190620T183000
DTEND;TZID=Asia/Tokyo:20190620T213000
DTSTAMP:20260421T205126
CREATED:20190505T054414Z
LAST-MODIFIED:20190619T132640Z
UID:7748-1561055400-1561066200@www.yomenotsukibito.com
SUMMARY:長野ビッグハット2日目公演
DESCRIPTION:シャトルバス乗り場はここです。\n\n\n\n\n\n\n\n2019年6月19・20日公演座席表\n\n\n\n2011年♪どーも どーも♪の時の座席表をお持ちの方がいらっしゃれば、ご提供をお願いいたします。\n\n 
URL:https://www.yomenotsukibito.com/2019-event/2019-nagano-2
LOCATION:長野ビッグハット\, ３-２２−２\, 長野市若里\, 長野県\, 3800928\, 日本
ATTACH;FMTTYPE=image/jpeg:https://www.yomenotsukibito.com/wp-content/uploads/2019/04/20190429_4_1.jpg
END:VEVENT
END:VCALENDAR