BEGIN:VCALENDAR
VERSION:2.0
PRODID:-//小田和正さん追っかけヨメの付き人のたわ言 - ECPv6.3.7//NONSGML v1.0//EN
CALSCALE:GREGORIAN
METHOD:PUBLISH
X-ORIGINAL-URL:https://www.yomenotsukibito.com
X-WR-CALDESC:小田和正さん追っかけヨメの付き人のたわ言 のイベント
REFRESH-INTERVAL;VALUE=DURATION:PT1H
X-Robots-Tag:noindex
X-PUBLISHED-TTL:PT1H
BEGIN:VTIMEZONE
TZID:Asia/Tokyo
BEGIN:STANDARD
TZOFFSETFROM:+0900
TZOFFSETTO:+0900
TZNAME:JST
DTSTART:20190101T000000
END:STANDARD
END:VTIMEZONE
BEGIN:VEVENT
DTSTART;TZID=Asia/Tokyo:20190517T130000
DTEND;TZID=Asia/Tokyo:20190527T235900
DTSTAMP:20260421T222527
CREATED:20190506T160857Z
LAST-MODIFIED:20190506T161043Z
UID:7962-1558098000-1559001540@www.yomenotsukibito.com
SUMMARY:PRESS、mobile会員先行予約当落確認、入金期間
DESCRIPTION:
URL:https://www.yomenotsukibito.com/2019-event/pre-order-deposit-payment-period
END:VEVENT
END:VCALENDAR