BEGIN:VCALENDAR
VERSION:2.0
PRODID:-//小田和正さん追っかけヨメの付き人のたわ言 - ECPv6.3.7//NONSGML v1.0//EN
CALSCALE:GREGORIAN
METHOD:PUBLISH
X-WR-CALNAME:小田和正さん追っかけヨメの付き人のたわ言
X-ORIGINAL-URL:https://www.yomenotsukibito.com
X-WR-CALDESC:小田和正さん追っかけヨメの付き人のたわ言 のイベント
REFRESH-INTERVAL;VALUE=DURATION:PT1H
X-Robots-Tag:noindex
X-PUBLISHED-TTL:PT1H
BEGIN:VTIMEZONE
TZID:Asia/Tokyo
BEGIN:STANDARD
TZOFFSETFROM:+0900
TZOFFSETTO:+0900
TZNAME:JST
DTSTART:20190101T000000
END:STANDARD
END:VTIMEZONE
BEGIN:VEVENT
DTSTART;TZID=Asia/Tokyo:20190515T180000
DTEND;TZID=Asia/Tokyo:20190515T210000
DTSTAMP:20260421T222530
CREATED:20190505T012325Z
LAST-MODIFIED:20190511T160437Z
UID:7719-1557943200-1557954000@www.yomenotsukibito.com
SUMMARY:横浜アリーナ2日目公演
DESCRIPTION:♪ENCORE!!♪の時の座席表です。\n2018年7月3日（火）17：30/18：30\n2018年7月4日（水）17：30/18：30\n\n今回、番号は変更されるでしょうね…きっと。\n\n\n\n\n\n\n\n \n「アリーナ」と「スタンド」の間が立見スペースです。ノリノリで踊るにはココ!←「お客様、周りのお客様にご迷惑ですから、静かにご鑑賞ください。」←「…」(-_-;) 下の図をクリックすると座席番号が調べられます。 \n\n\n \n \n 
URL:https://www.yomenotsukibito.com/2019-event/2019-yokohama-2
LOCATION:横浜アリーナ\, 港北区新横浜3-10\, 横浜市\, 神奈川県\, 222-0033\, 日本
ATTACH;FMTTYPE=image/jpeg:https://www.yomenotsukibito.com/wp-content/uploads/2019/05/20190429_1_1.jpg
END:VEVENT
END:VCALENDAR