BEGIN:VCALENDAR
VERSION:2.0
PRODID:-//小田和正さん追っかけヨメの付き人のたわ言 - ECPv6.3.7//NONSGML v1.0//EN
CALSCALE:GREGORIAN
METHOD:PUBLISH
X-ORIGINAL-URL:https://www.yomenotsukibito.com
X-WR-CALDESC:小田和正さん追っかけヨメの付き人のたわ言 のイベント
REFRESH-INTERVAL;VALUE=DURATION:PT1H
X-Robots-Tag:noindex
X-PUBLISHED-TTL:PT1H
BEGIN:VTIMEZONE
TZID:Asia/Tokyo
BEGIN:STANDARD
TZOFFSETFROM:+0900
TZOFFSETTO:+0900
TZNAME:JST
DTSTART:20190101T000000
END:STANDARD
END:VTIMEZONE
BEGIN:VEVENT
DTSTART;TZID=Asia/Tokyo:20191019T210000
DTEND;TZID=Asia/Tokyo:20191019T225900
DTSTAMP:20260421T122854
CREATED:20191009T162356Z
LAST-MODIFIED:20191009T162356Z
UID:11379-1571518800-1571525940@www.yomenotsukibito.com
SUMMARY:NHK BSプレミアム「小田和正Tour 2018～19ＥＮＣＯＲＥ!!ＥＮＣＯＲＥ!!」
DESCRIPTION:
URL:https://www.yomenotsukibito.com/2019-event/nhk-bs%e3%83%97%e3%83%ac%e3%83%9f%e3%82%a2%e3%83%a0%e3%80%8c%e5%b0%8f%e7%94%b0%e5%92%8c%e6%ad%a3tour-2018%ef%bd%9e19%ef%bd%85%ef%bd%8e%ef%bd%83%ef%bd%8f%ef%bd%92%ef%bd%85%ef%bd%85%ef%bd%8e%ef%bd%83
END:VEVENT
END:VCALENDAR