BEGIN:VCALENDAR
VERSION:2.0
PRODID:-//小田和正さん追っかけヨメの付き人のたわ言 - ECPv6.3.7//NONSGML v1.0//EN
CALSCALE:GREGORIAN
METHOD:PUBLISH
X-ORIGINAL-URL:https://www.yomenotsukibito.com
X-WR-CALDESC:小田和正さん追っかけヨメの付き人のたわ言 のイベント
REFRESH-INTERVAL;VALUE=DURATION:PT1H
X-Robots-Tag:noindex
X-PUBLISHED-TTL:PT1H
BEGIN:VTIMEZONE
TZID:Asia/Tokyo
BEGIN:STANDARD
TZOFFSETFROM:+0900
TZOFFSETTO:+0900
TZNAME:JST
DTSTART:20190101T000000
END:STANDARD
END:VTIMEZONE
BEGIN:VEVENT
DTSTART;TZID=Asia/Tokyo:20190704T183000
DTEND;TZID=Asia/Tokyo:20190704T213000
DTSTAMP:20260422T114253
CREATED:20190505T060114Z
LAST-MODIFIED:20190621T133507Z
UID:7750-1562265000-1562275800@www.yomenotsukibito.com
SUMMARY:宮城セキスイハイムスーパーアリーナ初日公演
DESCRIPTION:2018年ENCORE!!ツアーの時の座席表です。\n2018年10月5日（金）17：30/18：30\n\n2018年10月6日（土）16：30/17：30\n\n「Ｋさん」よりご提供いただきました。ありがとうございました。\n\n\n\n\n\n\n上記の座席図と上下逆になっています。
URL:https://www.yomenotsukibito.com/2019-event/2019-miyagi-1
LOCATION:宮城セキスイハイムスーパーアリーナ\, 菅谷字舘40-1\, 宮城郡利府町\, 宮城県\, 981-0122\, 日本
ATTACH;FMTTYPE=image/jpeg:https://www.yomenotsukibito.com/wp-content/uploads/2019/04/20190429_6_1.jpg
END:VEVENT
BEGIN:VEVENT
DTSTART;TZID=Asia/Tokyo:20190705T183000
DTEND;TZID=Asia/Tokyo:20190705T213000
DTSTAMP:20260422T114253
CREATED:20190505T060416Z
LAST-MODIFIED:20190621T133824Z
UID:7754-1562351400-1562362200@www.yomenotsukibito.com
SUMMARY:宮城セキスイハイムスーパーアリーナ2日目公演
DESCRIPTION:2018年ENCORE!!ツアーの時の座席表です。\n2018年10月5日（金）17：30/18：30\n\n2018年10月6日（土）16：30/17：30\n\n「Ｋさん」よりご提供いただきました。ありがとうございました。
URL:https://www.yomenotsukibito.com/2019-event/2019-miyagi-2
LOCATION:宮城セキスイハイムスーパーアリーナ\, 菅谷字舘40-1\, 宮城郡利府町\, 宮城県\, 981-0122\, 日本
ATTACH;FMTTYPE=image/jpeg:https://www.yomenotsukibito.com/wp-content/uploads/2019/04/20190429_6_1.jpg
END:VEVENT
BEGIN:VEVENT
DTSTART;TZID=Asia/Tokyo:20190718T183000
DTEND;TZID=Asia/Tokyo:20190718T213000
DTSTAMP:20260422T114253
CREATED:20190505T062459Z
LAST-MODIFIED:20190526T094202Z
UID:7756-1563474600-1563485400@www.yomenotsukibito.com
SUMMARY:神戸・ワールド記念ホール初日公演
DESCRIPTION:2018年ENCORE!!ツアーの時の座席表をお持ちの方がいらっしゃればご提供をお願いします。\n\n\n\n \n\n 
URL:https://www.yomenotsukibito.com/2019-event/2019-kobe-1
LOCATION:神戸・ワールド記念ホール\, 中央区港島中町6-12-2\, 神戸市\, 兵庫県\, 650-0046
ATTACH;FMTTYPE=image/jpeg:https://www.yomenotsukibito.com/wp-content/uploads/2019/04/20190429_7_1.jpg
END:VEVENT
BEGIN:VEVENT
DTSTART;TZID=Asia/Tokyo:20190719T183000
DTEND;TZID=Asia/Tokyo:20190719T213000
DTSTAMP:20260422T114253
CREATED:20190505T062927Z
LAST-MODIFIED:20190526T094040Z
UID:7760-1563561000-1563571800@www.yomenotsukibito.com
SUMMARY:神戸・ワールド記念ホール2日目公演
DESCRIPTION:2018年ENCORE!!ツアーの時の座席表をお持ちの方がいらっしゃればご提供をお願いします。\n\n\n\n 
URL:https://www.yomenotsukibito.com/2019-event/2019-kobe-2
LOCATION:神戸・ワールド記念ホール\, 中央区港島中町6-12-2\, 神戸市\, 兵庫県\, 650-0046
ATTACH;FMTTYPE=image/jpeg:https://www.yomenotsukibito.com/wp-content/uploads/2019/04/20190429_7_1.jpg
END:VEVENT
BEGIN:VEVENT
DTSTART;TZID=Asia/Tokyo:20190730T183000
DTEND;TZID=Asia/Tokyo:20190730T213000
DTSTAMP:20260422T114253
CREATED:20190505T064150Z
LAST-MODIFIED:20190526T100302Z
UID:7762-1564511400-1564522200@www.yomenotsukibito.com
SUMMARY:愛媛県武道館初日公演
DESCRIPTION: 
URL:https://www.yomenotsukibito.com/2019-event/2019-ehime-1
LOCATION:愛媛県武道館\, 市坪西町551\, 松山市\, 愛媛県\, 790-0948
ATTACH;FMTTYPE=image/jpeg:https://www.yomenotsukibito.com/wp-content/uploads/2019/04/20190429_8_1.jpg
END:VEVENT
BEGIN:VEVENT
DTSTART;TZID=Asia/Tokyo:20190731T183000
DTEND;TZID=Asia/Tokyo:20190731T213000
DTSTAMP:20260422T114253
CREATED:20190505T064339Z
LAST-MODIFIED:20190526T100602Z
UID:7766-1564597800-1564608600@www.yomenotsukibito.com
SUMMARY:愛媛県武道館2日目公演
DESCRIPTION: 
URL:https://www.yomenotsukibito.com/2019-event/2019-ehime-2
LOCATION:愛媛県武道館\, 市坪西町551\, 松山市\, 愛媛県\, 790-0948
ATTACH;FMTTYPE=image/jpeg:https://www.yomenotsukibito.com/wp-content/uploads/2019/04/20190429_8_1.jpg
END:VEVENT
BEGIN:VEVENT
DTSTART;TZID=Asia/Tokyo:20190731T220000
DTEND;TZID=Asia/Tokyo:20190731T235900
DTSTAMP:20260422T114253
CREATED:20190708T141330Z
LAST-MODIFIED:20190717T144050Z
UID:9780-1564610400-1564617540@www.yomenotsukibito.com
SUMMARY:愛媛県武道館2日目終演後オフ会開催
DESCRIPTION:多数お申込みいただきありがとうございました。\n\n残念ながら7月17日23時36分をもって応募を締め切らせていただきました。\n\n次回、宜野湾海浜公園野外劇場、出雲ドーム、函館アリーナ等のオフ会も妄想しておりますので\n\nふるってご応募をお願いいたします。\n\n【ご参加の皆様へ】\n\n当日までに♪また会える日まで♪を練習しておいてください。\n\nお開きの際、斉唱します(^^)♪～
URL:https://www.yomenotsukibito.com/2019-event/%e6%84%9b%e5%aa%9b%e7%9c%8c%e6%ad%a6%e9%81%93%e9%a4%a82%e6%97%a5%e7%9b%ae%e7%b5%82%e6%bc%94%e5%be%8c%e3%82%aa%e3%83%95%e4%bc%9a%e9%96%8b%e5%82%ac
LOCATION:愛媛県
END:VEVENT
BEGIN:VEVENT
DTSTART;TZID=Asia/Tokyo:20191019T210000
DTEND;TZID=Asia/Tokyo:20191019T225900
DTSTAMP:20260422T114253
CREATED:20191009T162356Z
LAST-MODIFIED:20191009T162356Z
UID:11379-1571518800-1571525940@www.yomenotsukibito.com
SUMMARY:NHK BSプレミアム「小田和正Tour 2018～19ＥＮＣＯＲＥ!!ＥＮＣＯＲＥ!!」
DESCRIPTION:
URL:https://www.yomenotsukibito.com/2019-event/nhk-bs%e3%83%97%e3%83%ac%e3%83%9f%e3%82%a2%e3%83%a0%e3%80%8c%e5%b0%8f%e7%94%b0%e5%92%8c%e6%ad%a3tour-2018%ef%bd%9e19%ef%bd%85%ef%bd%8e%ef%bd%83%ef%bd%8f%ef%bd%92%ef%bd%85%ef%bd%85%ef%bd%8e%ef%bd%83
LOCATION:愛媛県
END:VEVENT
BEGIN:VEVENT
DTSTART;TZID=Asia/Tokyo:20191104T122000
DTEND;TZID=Asia/Tokyo:20191104T211500
DTSTAMP:20260422T114253
CREATED:20191009T160536Z
LAST-MODIFIED:20191009T160536Z
UID:11374-1572870000-1572902100@www.yomenotsukibito.com
SUMMARY:NHK-FM 今日は一日”小田三昧”ＥＮＣＯＲＥ!!
DESCRIPTION:18時50分から19時19分まで中断があります。
URL:https://www.yomenotsukibito.com/2019-event/nhk-fm-%e4%bb%8a%e6%97%a5%e3%81%af%e4%b8%80%e6%97%a5%e5%b0%8f%e7%94%b0%e4%b8%89%e6%98%a7%ef%bd%85%ef%bd%8e%ef%bd%83%ef%bd%8f%ef%bd%92%ef%bd%85
LOCATION:愛媛県
END:VEVENT
END:VCALENDAR