BEGIN:VCALENDAR
VERSION:2.0
PRODID:-//小田和正さん追っかけヨメの付き人のたわ言 - ECPv6.3.7//NONSGML v1.0//EN
CALSCALE:GREGORIAN
METHOD:PUBLISH
X-WR-CALNAME:小田和正さん追っかけヨメの付き人のたわ言
X-ORIGINAL-URL:https://www.yomenotsukibito.com
X-WR-CALDESC:小田和正さん追っかけヨメの付き人のたわ言 のイベント
REFRESH-INTERVAL;VALUE=DURATION:PT1H
X-Robots-Tag:noindex
X-PUBLISHED-TTL:PT1H
BEGIN:VTIMEZONE
TZID:Asia/Tokyo
BEGIN:STANDARD
TZOFFSETFROM:+0900
TZOFFSETTO:+0900
TZNAME:JST
DTSTART:20190101T000000
END:STANDARD
END:VTIMEZONE
BEGIN:VEVENT
DTSTART;TZID=Asia/Tokyo:20190514T180000
DTEND;TZID=Asia/Tokyo:20190514T210000
DTSTAMP:20260422T050549
CREATED:20190506T001645Z
LAST-MODIFIED:20190511T160245Z
UID:7893-1557856800-1557867600@www.yomenotsukibito.com
SUMMARY:横浜アリーナ初日公演
DESCRIPTION:♪ENCORE!!♪の時の座席表です。\n2018年7月3日（火）17：30/18：30\n2018年7月4日（水）17：30/18：30\n\n今回、番号は変更されるでしょうね…きっと。\n\n\n\n\n\n\n\n\n「アリーナ」と「スタンド」の間が立見スペースです。ノリノリで踊るにはココ!←「お客様、周りのお客様にご迷惑ですから、静かにご鑑賞ください。」←「…」(-_-;) 下の図をクリックすると座席番号が調べられます。 \n\n\n\n \n 
URL:https://www.yomenotsukibito.com/2019-event/2019-yokohama-1
LOCATION:横浜アリーナ\, 港北区新横浜3-10\, 横浜市\, 神奈川県\, 222-0033\, 日本
END:VEVENT
BEGIN:VEVENT
DTSTART;TZID=Asia/Tokyo:20190514T113000
DTEND;TZID=Asia/Tokyo:20190514T133000
DTSTAMP:20260422T050549
CREATED:20190507T125819Z
LAST-MODIFIED:20190512T124551Z
UID:7987-1557833400-1557840600@www.yomenotsukibito.com
SUMMARY:横浜アリーナ初日公演ランチオフ会
DESCRIPTION:参加申込は締切ました。\n\nまた次の機会にお会いできる事を\n\n楽しみにしております。\n\n付き人
URL:https://www.yomenotsukibito.com/2019-event/yokohama-off-meeting
LOCATION:愛媛県
END:VEVENT
BEGIN:VEVENT
DTSTART;TZID=Asia/Tokyo:20190513T000000
DTEND;TZID=Asia/Tokyo:20190513T235900
DTSTAMP:20260422T050549
CREATED:20190505T090257Z
LAST-MODIFIED:20190505T091809Z
UID:7817-1557705600-1557791940@www.yomenotsukibito.com
SUMMARY:PRESS会員先行予約受付期限
DESCRIPTION:宮城セキスイハイムスーパーアリーナ、神戸・ワールド記念ホール、愛媛県武道館の公演のPRESS会員先行予約は5月13日（月）23時59分で締切となります。 \n\n\n\n皆さん！申込を忘れたらあかんよ～。
URL:https://www.yomenotsukibito.com/2019-event/press%e4%bc%9a%e5%93%a1%e5%85%88%e8%a1%8c%e4%ba%88%e7%b4%84%e5%8f%97%e4%bb%98%e6%9c%9f%e9%99%90
LOCATION:愛媛県
END:VEVENT
BEGIN:VEVENT
DTSTART;TZID=Asia/Tokyo:20190509T133000
DTEND;TZID=Asia/Tokyo:20190513T235900
DTSTAMP:20260422T050549
CREATED:20190505T092641Z
LAST-MODIFIED:20190505T093949Z
UID:7826-1557408600-1557791940@www.yomenotsukibito.com
SUMMARY:mobile会員先行予約
DESCRIPTION:宮城セキスイハイムスーパーアリーナ、神戸・ワールド記念ホール、愛媛県武道館のmobile会員先行予約が5月9日（木）13：00～5月13日（月）23：59迄の間で受付されます。当たらない！座席が悪い！…とさんざん悪評高いmobileチケットですが、今回は名誉挽回になるか、はたまた…(・。・;
URL:https://www.yomenotsukibito.com/2019-event/mobile%e4%bc%9a%e5%93%a1%e5%85%88%e8%a1%8c%e4%ba%88%e7%b4%84
LOCATION:愛媛県
END:VEVENT
END:VCALENDAR